BEGIN:VCALENDAR
VERSION:2.0
PRODID:-//jEvents 2.0 for Joomla//EN
CALSCALE:GREGORIAN
METHOD:PUBLISH
BEGIN:VTIMEZONE
TZID:Europe/Vienna
END:VTIMEZONE
BEGIN:VEVENT
UID:3423810a8095f34ea21170bdb2fdc381
CATEGORIES:Luft-Pistole
SUMMARY:Regionalliga, 4. Rd.
DESCRIPTION;ENCODING=QUOTED-PRINTABLE:\n\nAusschreibung\n\n\nÖM/ÖSTM Limits\n
DTSTAMP:20260424T173719Z
DTSTART;TZID=Europe/Vienna;VALUE=DATE:20230113
DTEND;TZID=Europe/Vienna;VALUE=DATE:20230114
SEQUENCE:0
TRANSP:OPAQUE
END:VEVENT
END:VCALENDAR