BEGIN:VCALENDAR
VERSION:2.0
PRODID:-//jEvents 2.0 for Joomla//EN
CALSCALE:GREGORIAN
METHOD:PUBLISH
BEGIN:VTIMEZONE
TZID:Europe/Vienna
END:VTIMEZONE
BEGIN:VEVENT
UID:e0690dbe55d35bc8dc4bf16be4ed2971
CATEGORIES:Luft-Pistole
SUMMARY:Regionalliga, 5. Rd.
DESCRIPTION;ENCODING=QUOTED-PRINTABLE:\n\nAusschreibung\n\n\nÖM/ÖSTM Limits\n
DTSTAMP:20260424T155704Z
DTSTART;TZID=Europe/Vienna;VALUE=DATE:20230203
DTEND;TZID=Europe/Vienna;VALUE=DATE:20230204
SEQUENCE:0
TRANSP:OPAQUE
END:VEVENT
END:VCALENDAR