BEGIN:VCALENDAR
VERSION:2.0
PRODID:-//jEvents 2.0 for Joomla//EN
CALSCALE:GREGORIAN
METHOD:PUBLISH
BEGIN:VTIMEZONE
TZID:Europe/Vienna
END:VTIMEZONE
BEGIN:VEVENT
UID:21099249e03d12682474691d58ee50aa
CATEGORIES:Luft-Pistole
SUMMARY:Landesliga, 1.+ 2. Rd.
LOCATION:PSV Villach
DESCRIPTION;ENCODING=QUOTED-PRINTABLE:\n\nAusschreibung\n\n\nBegegnungen\n\n\nÖM/ÖSTM Limits\n
DTSTAMP:20260424T155704Z
DTSTART;TZID=Europe/Vienna;VALUE=DATE:20221030
DTEND;TZID=Europe/Vienna;VALUE=DATE:20221031
SEQUENCE:0
TRANSP:OPAQUE
END:VEVENT
END:VCALENDAR