BEGIN:VCALENDAR
VERSION:2.0
PRODID:-//jEvents 2.0 for Joomla//EN
CALSCALE:GREGORIAN
METHOD:PUBLISH
BEGIN:VTIMEZONE
TZID:Europe/Vienna
END:VTIMEZONE
BEGIN:VEVENT
UID:bc0c3c576da1fdd6d18869187c906c36
CATEGORIES:Luft-Pistole
SUMMARY:Landesliga, 3.+ 4. Rd.
LOCATION:PSV Villach
DESCRIPTION;ENCODING=QUOTED-PRINTABLE:\n\nAusschreibung\n\n\nBegegnungen\n\n\nÖM/ÖSTM Limits\n
DTSTAMP:20260425T005913Z
DTSTART;TZID=Europe/Vienna;VALUE=DATE:20221127
DTEND;TZID=Europe/Vienna;VALUE=DATE:20221128
SEQUENCE:0
TRANSP:OPAQUE
END:VEVENT
END:VCALENDAR