BEGIN:VCALENDAR
VERSION:2.0
PRODID:-//jEvents 2.0 for Joomla//EN
CALSCALE:GREGORIAN
METHOD:PUBLISH
BEGIN:VTIMEZONE
TZID:Europe/Vienna
END:VTIMEZONE
BEGIN:VEVENT
UID:7165f916aa6dd5434b13b6158a3e6cbb
CATEGORIES:Luft-Pistole
SUMMARY:Landesliga, 7.+ 8. Rd.
LOCATION:PSV Villach
DESCRIPTION;ENCODING=QUOTED-PRINTABLE:\n\nAusschreibung\n\n\nBegegnungen\n\n\nÖM/ÖSTM Limits\n
DTSTAMP:20260424T173720Z
DTSTART;TZID=Europe/Vienna;VALUE=DATE:20230115
DTEND;TZID=Europe/Vienna;VALUE=DATE:20230116
SEQUENCE:0
TRANSP:OPAQUE
END:VEVENT
END:VCALENDAR