BEGIN:VCALENDAR
VERSION:2.0
PRODID:-//jEvents 2.0 for Joomla//EN
CALSCALE:GREGORIAN
METHOD:PUBLISH
BEGIN:VTIMEZONE
TZID:Europe/Vienna
END:VTIMEZONE
BEGIN:VEVENT
UID:89d66e4cdd1993c7f491716735f09c9d
CATEGORIES:Luft-Pistole
SUMMARY:Landesliga, 9.+ 10. Rd.
LOCATION:PSV Villach
DESCRIPTION;ENCODING=QUOTED-PRINTABLE:<p><a href="images/pdfs/2023/luft_22_23/knt_lp_runden_2223_a.pdf" target="_
 blank">Ausschreibung</a></p><p><a href="images/pdfs/2023/luft_22_23/knt_lp_
 ll_begeg_2223.pdf" target="_blank">Begegnungen</a></p><p><a href="images/pd
 fs/2023/luft_22_23/knt_lp_quali_rl_2223.pdf" target="_blank">ÖM/ÖSTM Limits
 </a></p>
DTSTAMP:20260424T160115Z
DTSTART;TZID=Europe/Vienna;VALUE=DATE:20230205
DTEND;TZID=Europe/Vienna;VALUE=DATE:20230206
SEQUENCE:0
TRANSP:OPAQUE
END:VEVENT
END:VCALENDAR