BEGIN:VCALENDAR
VERSION:2.0
PRODID:-//jEvents 2.0 for Joomla//EN
CALSCALE:GREGORIAN
METHOD:PUBLISH
BEGIN:VTIMEZONE
TZID:Europe/Vienna
END:VTIMEZONE
BEGIN:VEVENT
UID:5df4bad218bc9a18cf22b548ee4bc158
CATEGORIES:Luft-Gewehr
SUMMARY:Österr. Vereinsliga - Senioren 3, 1. Rd.
DESCRIPTION;ENCODING=QUOTED-PRINTABLE:\n\nAusschreibung\n
DTSTAMP:20260424T144312Z
DTSTART;TZID=Europe/Vienna;VALUE=DATE:20221101
DTEND;TZID=Europe/Vienna;VALUE=DATE:20221201
SEQUENCE:0
TRANSP:OPAQUE
END:VEVENT
END:VCALENDAR