BEGIN:VCALENDAR
VERSION:2.0
PRODID:-//jEvents 2.0 for Joomla//EN
CALSCALE:GREGORIAN
METHOD:PUBLISH
BEGIN:VTIMEZONE
TZID:Europe/Vienna
END:VTIMEZONE
BEGIN:VEVENT
UID:dd14c7af9210f7e755c8bf34168ba058
CATEGORIES:Luft-Gewehr
SUMMARY:Österr. Vereinsliga - Senioren 3, 2. Rd.
DESCRIPTION;ENCODING=QUOTED-PRINTABLE:\n\nAusschreibung\n
DTSTAMP:20260424T191325Z
DTSTART;TZID=Europe/Vienna;VALUE=DATE:20221201
DTEND;TZID=Europe/Vienna;VALUE=DATE:20230101
SEQUENCE:0
TRANSP:OPAQUE
END:VEVENT
END:VCALENDAR