BEGIN:VCALENDAR
VERSION:2.0
PRODID:-//jEvents 2.0 for Joomla//EN
CALSCALE:GREGORIAN
METHOD:PUBLISH
BEGIN:VTIMEZONE
TZID:Europe/Vienna
END:VTIMEZONE
BEGIN:VEVENT
UID:1c04afc9827d57a05d77edd46057029d
CATEGORIES:Luft-Gewehr
SUMMARY:Österr. Vereinsliga - Senioren 3, 3. Rd.
DESCRIPTION;ENCODING=QUOTED-PRINTABLE:<p><a href="images/pdfs/2023/luft_22_23/oe_lg_vl_sen3_2223_a.pdf" target="_
 blank">Ausschreibung</a></p>
DTSTAMP:20260424T160402Z
DTSTART;TZID=Europe/Vienna;VALUE=DATE:20230101
DTEND;TZID=Europe/Vienna;VALUE=DATE:20230201
SEQUENCE:0
TRANSP:OPAQUE
END:VEVENT
END:VCALENDAR