BEGIN:VCALENDAR
VERSION:2.0
PRODID:-//jEvents 2.0 for Joomla//EN
CALSCALE:GREGORIAN
METHOD:PUBLISH
BEGIN:VTIMEZONE
TZID:Europe/Vienna
END:VTIMEZONE
BEGIN:VEVENT
UID:3a7914d9f2f88f28b6f409ee70fc1740
CATEGORIES:Luft-Gewehr
SUMMARY:Österr. Vereinsliga - Senioren 3, 5. Rd.
DESCRIPTION;ENCODING=QUOTED-PRINTABLE:<p><a href="images/pdfs/2023/luft_22_23/oe_lg_vl_sen3_2223_a.pdf" target="_
 blank">Ausschreibung</a></p>
DTSTAMP:20260424T210233Z
DTSTART;TZID=Europe/Vienna;VALUE=DATE:20230301
DTEND;TZID=Europe/Vienna;VALUE=DATE:20230401
SEQUENCE:0
TRANSP:OPAQUE
END:VEVENT
END:VCALENDAR