BEGIN:VCALENDAR
VERSION:2.0
PRODID:-//jEvents 2.0 for Joomla//EN
CALSCALE:GREGORIAN
METHOD:PUBLISH
BEGIN:VTIMEZONE
TZID:Europe/Vienna
END:VTIMEZONE
BEGIN:VEVENT
UID:ad736cbd051bf138d9a94c91458d56cf
CATEGORIES:Luft-Gewehr, Luft-Pistole
SUMMARY:Österr. Vereinsliga - stehend aufgelegt, 1. Rd.
DESCRIPTION;ENCODING=QUOTED-PRINTABLE:\n\nAusschreibung\n
DTSTAMP:20260424T143349Z
DTSTART;TZID=Europe/Vienna;VALUE=DATE:20221101
DTEND;TZID=Europe/Vienna;VALUE=DATE:20221201
SEQUENCE:0
TRANSP:OPAQUE
END:VEVENT
END:VCALENDAR