BEGIN:VCALENDAR
VERSION:2.0
PRODID:-//jEvents 2.0 for Joomla//EN
CALSCALE:GREGORIAN
METHOD:PUBLISH
BEGIN:VTIMEZONE
TZID:Europe/Vienna
END:VTIMEZONE
BEGIN:VEVENT
UID:076885e2e3a5c230af739e7b149cee45
CATEGORIES:Luft-Gewehr, Luft-Pistole
SUMMARY:Österr. Vereinsliga - stehend aufgelegt, 4. Rd.
DESCRIPTION;ENCODING=QUOTED-PRINTABLE:<p><a href="images/pdfs/2023/luft_22_23/oe_lg_lp_vl_stehauf_2223_a.pdf" tar
 get="_blank">Ausschreibung</a></p>
DTSTAMP:20260424T221532Z
DTSTART;TZID=Europe/Vienna;VALUE=DATE:20230201
DTEND;TZID=Europe/Vienna;VALUE=DATE:20230301
SEQUENCE:0
TRANSP:OPAQUE
END:VEVENT
END:VCALENDAR