BEGIN:VCALENDAR
VERSION:2.0
PRODID:-//jEvents 2.0 for Joomla//EN
CALSCALE:GREGORIAN
METHOD:PUBLISH
BEGIN:VTIMEZONE
TZID:Europe/Vienna
END:VTIMEZONE
BEGIN:VEVENT
UID:9b5c2ddc27bd1792303423ea88512f9e
CATEGORIES:Luft-Gewehr, Luft-Pistole
SUMMARY:Österr. Vereinsliga - stehend aufgelegt, 5. Rd.
DESCRIPTION;ENCODING=QUOTED-PRINTABLE:<p><a href="images/pdfs/2023/luft_22_23/oe_lg_lp_vl_stehauf_2223_a.pdf" tar
 get="_blank">Ausschreibung</a></p>
DTSTAMP:20260424T210207Z
DTSTART;TZID=Europe/Vienna;VALUE=DATE:20230301
DTEND;TZID=Europe/Vienna;VALUE=DATE:20230401
SEQUENCE:0
TRANSP:OPAQUE
END:VEVENT
END:VCALENDAR