BEGIN:VCALENDAR
VERSION:2.0
PRODID:-//jEvents 2.0 for Joomla//EN
CALSCALE:GREGORIAN
METHOD:PUBLISH
BEGIN:VTIMEZONE
TZID:Europe/Vienna
END:VTIMEZONE
BEGIN:VEVENT
UID:6fbb32a7f025a453be4ee9dddacb6e1c
CATEGORIES:Luft-Gewehr, Feuer-Pistole
SUMMARY:Osterschießen St. Veit/Glan
LOCATION:SV St.Veit/Glan
DESCRIPTION;ENCODING=QUOTED-PRINTABLE:<p><a href="images/pdfs/2023/luft_22_23/knt_luft_feuer_ostern_stveit_2023.p
 df" target="_blank">Ausschreibung</a></p>
DTSTAMP:20260424T174250Z
DTSTART;TZID=Europe/Vienna;VALUE=DATE:20230331
DTEND;TZID=Europe/Vienna;VALUE=DATE:20230403
SEQUENCE:0
TRANSP:OPAQUE
END:VEVENT
END:VCALENDAR