BEGIN:VCALENDAR
VERSION:2.0
PRODID:-//jEvents 2.0 for Joomla//EN
CALSCALE:GREGORIAN
METHOD:PUBLISH
BEGIN:VTIMEZONE
TZID:Europe/Vienna
END:VTIMEZONE
BEGIN:VEVENT
UID:5156fb749f348243647b2304c77ce250
CATEGORIES:Luft-Gewehr
SUMMARY:Osterschießen Friesach
LOCATION:SG Friesach
DESCRIPTION;ENCODING=QUOTED-PRINTABLE:<p><a href="images/pdfs/2023/luft_22_23/knt_lg_oster_fries_2023.pdf" target
 ="_blank">Ausschreibung</a></p>
DTSTAMP:20260424T174246Z
DTSTART;TZID=Europe/Vienna;VALUE=DATE:20230405
DTEND;TZID=Europe/Vienna;VALUE=DATE:20230406
SEQUENCE:0
TRANSP:OPAQUE
END:VEVENT
END:VCALENDAR