BEGIN:VCALENDAR
VERSION:2.0
PRODID:-//jEvents 2.0 for Joomla//EN
CALSCALE:GREGORIAN
METHOD:PUBLISH
BEGIN:VTIMEZONE
TZID:Europe/Vienna
END:VTIMEZONE
BEGIN:VEVENT
UID:1efb4f732c4600237a9c500dc14822cd
CATEGORIES:Luft-Gewehr, Luft-Pistole
SUMMARY:Josefischießen
LOCATION:SG Innervillgraten
DESCRIPTION;ENCODING=QUOTED-PRINTABLE:<p><a href="images/pdfs/2023/luft_22_23/otir_luft_josefisch_2023.pdf" targe
 t="_blank">Ausschreibung</a></p>
DTSTAMP:20260424T174250Z
DTSTART;TZID=Europe/Vienna;VALUE=DATE:20230317
DTEND;TZID=Europe/Vienna;VALUE=DATE:20230409
SEQUENCE:0
TRANSP:OPAQUE
END:VEVENT
END:VCALENDAR