BEGIN:VCALENDAR
VERSION:2.0
PRODID:-//jEvents 2.0 for Joomla//EN
CALSCALE:GREGORIAN
METHOD:PUBLISH
BEGIN:VTIMEZONE
TZID:Europe/Vienna
END:VTIMEZONE
BEGIN:VEVENT
UID:4b68a5c5d1846d10455247ee2ab1d581
CATEGORIES:Luft-Gewehr, Luft-Pistole
SUMMARY:ÖSTM ÖM Luftwaffen
LOCATION:Olympiazentrum Rif/Hallein
DESCRIPTION;ENCODING=QUOTED-PRINTABLE:\n\nOlympiazentrum Rif/Hallein\n
DTSTAMP:20260424T173719Z
DTSTART;TZID=Europe/Vienna;VALUE=DATE:20230329
DTEND;TZID=Europe/Vienna;VALUE=DATE:20230403
SEQUENCE:0
TRANSP:OPAQUE
END:VEVENT
END:VCALENDAR