BEGIN:VCALENDAR
VERSION:2.0
PRODID:-//jEvents 2.0 for Joomla//EN
CALSCALE:GREGORIAN
METHOD:PUBLISH
BEGIN:VTIMEZONE
TZID:Europe/Vienna
END:VTIMEZONE
BEGIN:VEVENT
UID:44c6b5f4b7a73fc5648d3e839ab6300d
CATEGORIES:Luft-Gewehr, Luft-Pistole
SUMMARY:Osterschinkenschießen Himmelberg
LOCATION:SV Himmelberg
DESCRIPTION;ENCODING=QUOTED-PRINTABLE:<p><a href="images/pdfs/2023/luft_22_23/knt_luft_ostern_himmelbg_2023.pdf" 
 target="_blank">Ausschreibung</a></p>
DTSTAMP:20260424T174251Z
DTSTART;TZID=Europe/Vienna;VALUE=DATE:20230401
DTEND;TZID=Europe/Vienna;VALUE=DATE:20230402
SEQUENCE:0
TRANSP:OPAQUE
END:VEVENT
END:VCALENDAR