BEGIN:VCALENDAR
VERSION:2.0
PRODID:-//jEvents 2.0 for Joomla//EN
CALSCALE:GREGORIAN
METHOD:PUBLISH
BEGIN:VTIMEZONE
TZID:Europe/Vienna
END:VTIMEZONE
BEGIN:VEVENT
UID:dbd2c56977eccee6ce79964129c9f24d
CATEGORIES:KK-Gewehr
SUMMARY:RFWK 1. Runde
DESCRIPTION;ENCODING=QUOTED-PRINTABLE:<p><a href="images/pdfs/2023/kk_23/knt_kk_rfkw23_a.pdf" target="_blank">Aus
 schreibung</a></p><p><a href="images/pdfs/2023/kk_23/knt_kk_richtlinien23.p
 df" target="_blank">Richtlinien</a></p>
DTSTAMP:20260424T174250Z
DTSTART;TZID=Europe/Vienna;VALUE=DATE:20230412
DTEND;TZID=Europe/Vienna;VALUE=DATE:20230605
SEQUENCE:0
TRANSP:OPAQUE
END:VEVENT
END:VCALENDAR