BEGIN:VCALENDAR
VERSION:2.0
PRODID:-//jEvents 2.0 for Joomla//EN
CALSCALE:GREGORIAN
METHOD:PUBLISH
BEGIN:VTIMEZONE
TZID:Europe/Vienna
END:VTIMEZONE
BEGIN:VEVENT
UID:c9fc91c0025281cfbcc5d3d1faf89182
CATEGORIES:KK-Gewehr
SUMMARY:KLSV Qualifikation f. ÖSTM/ÖM
LOCATION:Fratres / Spittal
DESCRIPTION;ENCODING=QUOTED-PRINTABLE:\n\nAusschreibung\n\n\nRichtlinien\n\n\nLimits\n
DTSTAMP:20260426T063134Z
DTSTART;TZID=Europe/Vienna;VALUE=DATE:20230701
DTEND;TZID=Europe/Vienna;VALUE=DATE:20230702
SEQUENCE:0
TRANSP:OPAQUE
END:VEVENT
END:VCALENDAR