BEGIN:VCALENDAR
VERSION:2.0
PRODID:-//jEvents 2.0 for Joomla//EN
CALSCALE:GREGORIAN
METHOD:PUBLISH
BEGIN:VTIMEZONE
TZID:Europe/Vienna
END:VTIMEZONE
BEGIN:VEVENT
UID:5709fa60e13d76248b4d33f431a834e0
CATEGORIES:KK-Gewehr
SUMMARY:KLSV Qualifikation f. ÖSTM/ÖM
LOCATION:LH St.Veit/Glan
DESCRIPTION;ENCODING=QUOTED-PRINTABLE:\n\nAusschreibung\n\n\nRichtlinien\n\n\nLimits\n
DTSTAMP:20260426T063134Z
DTSTART;TZID=Europe/Vienna;VALUE=DATE:20230702
DTEND;TZID=Europe/Vienna;VALUE=DATE:20230703
SEQUENCE:0
TRANSP:OPAQUE
END:VEVENT
END:VCALENDAR