BEGIN:VCALENDAR
VERSION:2.0
PRODID:-//jEvents 2.0 for Joomla//EN
CALSCALE:GREGORIAN
METHOD:PUBLISH
BEGIN:VTIMEZONE
TZID:Europe/Vienna
END:VTIMEZONE
BEGIN:VEVENT
UID:5b5b5a3c889123ae21e19c7312f336ba
CATEGORIES:KK-Gewehr
SUMMARY:Jugend-Schulschluss-Grand Prix
LOCATION:LH St.Veit/Glan
DESCRIPTION;ENCODING=QUOTED-PRINTABLE:\n\nAusschreibung\n\n\nRichtlinien\n\n\nab 14 Uhr\n
DTSTAMP:20260426T063134Z
DTSTART;TZID=Europe/Vienna:20230702T140000
SEQUENCE:0
TRANSP:OPAQUE
END:VEVENT
END:VCALENDAR