BEGIN:VCALENDAR
VERSION:2.0
PRODID:-//jEvents 2.0 for Joomla//EN
CALSCALE:GREGORIAN
METHOD:PUBLISH
BEGIN:VTIMEZONE
TZID:Europe/Vienna
END:VTIMEZONE
BEGIN:VEVENT
UID:ed6913978bfd4c17de7e005bbda18059
CATEGORIES:KK-Gewehr
SUMMARY:LM 100m Gewehr
LOCATION:Pakein/Grafenstein
DESCRIPTION;ENCODING=QUOTED-PRINTABLE:\n\nRichtlinien\n
DTSTAMP:20260426T063134Z
DTSTART;TZID=Europe/Vienna;VALUE=DATE:20230714
DTEND;TZID=Europe/Vienna;VALUE=DATE:20230716
SEQUENCE:0
TRANSP:OPAQUE
END:VEVENT
END:VCALENDAR