BEGIN:VCALENDAR
VERSION:2.0
PRODID:-//jEvents 2.0 for Joomla//EN
CALSCALE:GREGORIAN
METHOD:PUBLISH
BEGIN:VTIMEZONE
TZID:Europe/Vienna
END:VTIMEZONE
BEGIN:VEVENT
UID:8f8d815c92ca23ffbcdc07a16f403a2e
CATEGORIES:KK-Gewehr
SUMMARY:LM 50m Gewehr
LOCATION:LH St.Veit/Glan
DESCRIPTION;ENCODING=QUOTED-PRINTABLE:\n\nAusschreibung\n\n\nRichtlinien\n\n\n29. Juli: 40-Auflage, 30 Hobby, Sen
 ioren 3\n\n\n30. Juli: Jugend, Allgemeine Klassen, Stellungsbewerbe\n\n\n \
 n
DTSTAMP:20260426T063134Z
DTSTART;TZID=Europe/Vienna;VALUE=DATE:20230729
DTEND;TZID=Europe/Vienna;VALUE=DATE:20230731
SEQUENCE:0
TRANSP:OPAQUE
END:VEVENT
END:VCALENDAR