BEGIN:VCALENDAR
VERSION:2.0
PRODID:-//jEvents 2.0 for Joomla//EN
CALSCALE:GREGORIAN
METHOD:PUBLISH
BEGIN:VTIMEZONE
TZID:Europe/Vienna
END:VTIMEZONE
BEGIN:VEVENT
UID:7b43482de5733e5fb178066f45a207d6
CATEGORIES:KK-Gewehr
SUMMARY:ÖSTM/ÖM 50m/100m
LOCATION:Innsbruck/Arzl
DESCRIPTION;ENCODING=QUOTED-PRINTABLE:\n\nInnsbruck\n
DTSTAMP:20260425T225446Z
DTSTART;TZID=Europe/Vienna;VALUE=DATE:20230829
DTEND;TZID=Europe/Vienna;VALUE=DATE:20230904
SEQUENCE:0
TRANSP:OPAQUE
END:VEVENT
END:VCALENDAR