BEGIN:VCALENDAR
VERSION:2.0
PRODID:-//jEvents 2.0 for Joomla//EN
CALSCALE:GREGORIAN
METHOD:PUBLISH
BEGIN:VTIMEZONE
TZID:Europe/Vienna
END:VTIMEZONE
BEGIN:VEVENT
UID:dd558150fb9884029ad2ba7a8d0d51b9
CATEGORIES:KK-Gewehr
SUMMARY:RWS-CUP, 3.Rd.
DESCRIPTION;ENCODING=QUOTED-PRINTABLE:\n\nAusschreibung\n\n\nLimits\n
DTSTAMP:20260426T063133Z
DTSTART;TZID=Europe/Vienna;VALUE=DATE:20230630
DTEND;TZID=Europe/Vienna;VALUE=DATE:20230731
SEQUENCE:0
TRANSP:OPAQUE
END:VEVENT
END:VCALENDAR