BEGIN:VCALENDAR
VERSION:2.0
PRODID:-//jEvents 2.0 for Joomla//EN
CALSCALE:GREGORIAN
METHOD:PUBLISH
BEGIN:VTIMEZONE
TZID:Europe/Vienna
END:VTIMEZONE
BEGIN:VEVENT
UID:c726e59729a2aa70dd49138db1c4170b
CATEGORIES:KK-Gewehr
SUMMARY:RWS-CUP, Finale
LOCATION:BLZ Innsbruck
DESCRIPTION;ENCODING=QUOTED-PRINTABLE:<p><a href="images/pdfs/2023/kk_23/oe_kk_rws_cup_23_a.pdf" target="_blank">
 Ausschreibung</a></p><p><a href="images/pdfs/2023/kk_23/knt_kk_limits_23.pd
 f" target="_blank">Limits</a></p>
DTSTAMP:20260426T033033Z
DTSTART;TZID=Europe/Vienna;VALUE=DATE:20230812
DTEND;TZID=Europe/Vienna;VALUE=DATE:20230814
SEQUENCE:0
TRANSP:OPAQUE
END:VEVENT
END:VCALENDAR