BEGIN:VCALENDAR
VERSION:2.0
PRODID:-//jEvents 2.0 for Joomla//EN
CALSCALE:GREGORIAN
METHOD:PUBLISH
BEGIN:VTIMEZONE
TZID:Europe/Vienna
END:VTIMEZONE
BEGIN:VEVENT
UID:ead17a22b4e0295ebdea3718f7ee819e
CATEGORIES:KK-Gewehr
SUMMARY:Länderkampf - OÖ/STMK/K
LOCATION:Marchtrenk/OÖ
DESCRIPTION;ENCODING=QUOTED-PRINTABLE:<p> </p><p><a href="images/pdfs/2023/kk_23/knt_kk_limits_23.pdf" target="_b
 lank">Limits</a></p>
DTSTAMP:20260426T033733Z
DTSTART;TZID=Europe/Vienna;VALUE=DATE:20230819
DTEND;TZID=Europe/Vienna;VALUE=DATE:20230820
SEQUENCE:0
TRANSP:OPAQUE
END:VEVENT
END:VCALENDAR