BEGIN:VCALENDAR
VERSION:2.0
PRODID:-//jEvents 2.0 for Joomla//EN
CALSCALE:GREGORIAN
METHOD:PUBLISH
BEGIN:VTIMEZONE
TZID:Europe/Vienna
END:VTIMEZONE
BEGIN:VEVENT
UID:704ce0ae649bf1e26ab3a66cd76d6cea
CATEGORIES:Feuer-Pistole
SUMMARY:Landesmeisterschaft 2023
LOCATION:LH St.Vei/Glan
DESCRIPTION;ENCODING=QUOTED-PRINTABLE:\n\nAusschreibung\n\n\n25m Pistole, Zentralfeuerpistole, 50mPi, 50mPi Mixed
 \n
DTSTAMP:20260426T063134Z
DTSTART;TZID=Europe/Vienna;VALUE=DATE:20230715
DTEND;TZID=Europe/Vienna;VALUE=DATE:20230716
SEQUENCE:0
TRANSP:OPAQUE
END:VEVENT
END:VCALENDAR