BEGIN:VCALENDAR
VERSION:2.0
PRODID:-//jEvents 2.0 for Joomla//EN
CALSCALE:GREGORIAN
METHOD:PUBLISH
BEGIN:VTIMEZONE
TZID:Europe/Vienna
END:VTIMEZONE
BEGIN:VEVENT
UID:3800166c2f0c090c4b194ad105fc85a9
CATEGORIES:Feuer-Pistole
SUMMARY:Bezirksmeisterschaft Klagenfurt 2023
LOCATION:SSV Sponheim / Viktring
DESCRIPTION;ENCODING=QUOTED-PRINTABLE:\n\nAusschreibung\n
DTSTAMP:20260426T063133Z
DTSTART;TZID=Europe/Vienna;VALUE=DATE:20230714
DTEND;TZID=Europe/Vienna;VALUE=DATE:20230715
SEQUENCE:0
TRANSP:OPAQUE
END:VEVENT
END:VCALENDAR