BEGIN:VCALENDAR
VERSION:2.0
PRODID:-//jEvents 2.0 for Joomla//EN
CALSCALE:GREGORIAN
METHOD:PUBLISH
BEGIN:VTIMEZONE
TZID:Europe/Vienna
END:VTIMEZONE
BEGIN:VEVENT
UID:10391a6bf0360ad5b5253eab50c9d145
CATEGORIES:GK-Pistole
SUMMARY:Offene BezM SGKP FFWGK - Klagenfurt
LOCATION:SSV Sponheim
DESCRIPTION;ENCODING=QUOTED-PRINTABLE:<p><a href="images/pdfs/2023/fp1_23/knt_sgkp_bm_klg_23_a.pdf" target="_blan
 k">Ausschreibung</a></p><p> </p>
DTSTAMP:20260426T002302Z
DTSTART;TZID=Europe/Vienna;VALUE=DATE:20230914
DTEND;TZID=Europe/Vienna;VALUE=DATE:20230916
SEQUENCE:0
TRANSP:OPAQUE
END:VEVENT
END:VCALENDAR