BEGIN:VCALENDAR
VERSION:2.0
PRODID:-//jEvents 2.0 for Joomla//EN
CALSCALE:GREGORIAN
METHOD:PUBLISH
BEGIN:VTIMEZONE
TZID:Europe/Vienna
END:VTIMEZONE
BEGIN:VEVENT
UID:c231f50bef6eb475d7e10bb7b4502266
CATEGORIES:Luft-Gewehr
SUMMARY:Kärntner Jugend u. Schüler Cup, 1. Rd.
LOCATION:SV St.Vei/Glan
DESCRIPTION;ENCODING=QUOTED-PRINTABLE:\n\nQualifikationsrichtlinien LG\n\n\nAusschreibung\n
DTSTAMP:20260426T000024Z
DTSTART;TZID=Europe/Vienna;VALUE=DATE:20231021
DTEND;TZID=Europe/Vienna;VALUE=DATE:20231022
SEQUENCE:0
TRANSP:OPAQUE
END:VEVENT
END:VCALENDAR