BEGIN:VCALENDAR
VERSION:2.0
PRODID:-//jEvents 2.0 for Joomla//EN
CALSCALE:GREGORIAN
METHOD:PUBLISH
BEGIN:VTIMEZONE
TZID:Europe/Vienna
END:VTIMEZONE
BEGIN:VEVENT
UID:3c7cdbf68edb798934f67f58ee8d8604
CATEGORIES:Luft-Gewehr
SUMMARY:Kärntner Jugend u. Schüler Cup, 3. Rd.
LOCATION:SV Grafenstein
DESCRIPTION;ENCODING=QUOTED-PRINTABLE:\n\nQualifikationsrichtlinien LG\n\n\nAusschreibung\n
DTSTAMP:20260425T225446Z
DTSTART;TZID=Europe/Vienna;VALUE=DATE:20231216
DTEND;TZID=Europe/Vienna;VALUE=DATE:20231217
SEQUENCE:0
TRANSP:OPAQUE
END:VEVENT
END:VCALENDAR