BEGIN:VCALENDAR
VERSION:2.0
PRODID:-//jEvents 2.0 for Joomla//EN
CALSCALE:GREGORIAN
METHOD:PUBLISH
BEGIN:VTIMEZONE
TZID:Europe/Vienna
END:VTIMEZONE
BEGIN:VEVENT
UID:62575b61dae4a45fd3d0f041c1841464
CATEGORIES:Luft-Gewehr
SUMMARY:Kärntner Jugend u. Schüler Cup, 4. Rd.
LOCATION:SSV Feldkirchen
DESCRIPTION;ENCODING=QUOTED-PRINTABLE:<p><a href="images/pdfs/2024/luft_2324/knt_lg_quali_rl_2324.pdf" target="_b
 lank">Qualifikationsrichtlinien LG</a></p><p><a href="images/pdfs/2024/luft
 _2324/knt_lg_juschcup_2324_a.pdf" target="_blank">Ausschreibung</a></p>
DTSTAMP:20260424T180713Z
DTSTART;TZID=Europe/Vienna;VALUE=DATE:20240120
DTEND;TZID=Europe/Vienna;VALUE=DATE:20240121
SEQUENCE:0
TRANSP:OPAQUE
END:VEVENT
END:VCALENDAR