BEGIN:VCALENDAR
VERSION:2.0
PRODID:-//jEvents 2.0 for Joomla//EN
CALSCALE:GREGORIAN
METHOD:PUBLISH
BEGIN:VTIMEZONE
TZID:Europe/Vienna
END:VTIMEZONE
BEGIN:VEVENT
UID:82a735df66e8f4e2261a3eecf249f9d8
CATEGORIES:Luft-Gewehr
SUMMARY:Kärntner Jugend u. Schüler Cup, Finale
LOCATION:PSV Villach
DESCRIPTION;ENCODING=QUOTED-PRINTABLE:\n\nQualifikationsrichtlinien LG\n\n\nAusschreibung\n
DTSTAMP:20260424T162715Z
DTSTART;TZID=Europe/Vienna;VALUE=DATE:20240203
DTEND;TZID=Europe/Vienna;VALUE=DATE:20240204
SEQUENCE:0
TRANSP:OPAQUE
END:VEVENT
END:VCALENDAR