BEGIN:VCALENDAR
VERSION:2.0
PRODID:-//jEvents 2.0 for Joomla//EN
CALSCALE:GREGORIAN
METHOD:PUBLISH
BEGIN:VTIMEZONE
TZID:Europe/Vienna
END:VTIMEZONE
BEGIN:VEVENT
UID:cf9470f268c3df0ccd9527c899018605
CATEGORIES:Luft-Gewehr
SUMMARY:Landesliga, 2. Rd.
LOCATION:PSV Villach
DESCRIPTION;ENCODING=QUOTED-PRINTABLE:\n\nAusschreibung\n\n\nQualifikationsrichtlinien LG\n
DTSTAMP:20260424T180224Z
DTSTART;TZID=Europe/Vienna;VALUE=DATE:20240114
DTEND;TZID=Europe/Vienna;VALUE=DATE:20240115
SEQUENCE:0
TRANSP:OPAQUE
END:VEVENT
END:VCALENDAR