BEGIN:VCALENDAR
VERSION:2.0
PRODID:-//jEvents 2.0 for Joomla//EN
CALSCALE:GREGORIAN
METHOD:PUBLISH
BEGIN:VTIMEZONE
TZID:Europe/Vienna
END:VTIMEZONE
BEGIN:VEVENT
UID:3a8551d13a142dadbdabeeed8ff05ef1
CATEGORIES:Luft-Gewehr
SUMMARY:Landesliga, 3. Rd.
LOCATION:PSV Villach
DESCRIPTION;ENCODING=QUOTED-PRINTABLE:<p><a href="images/pdfs/2024/luft_2324/knt_lg_ligen_2324_a.pdf" target="_bl
 ank">Ausschreibung</a></p><p><a href="images/pdfs/2024/luft_2324/knt_lg_qua
 li_rl_2324.pdf" target="_blank">Qualifikationsrichtlinien LG</a></p>
DTSTAMP:20260424T180729Z
DTSTART;TZID=Europe/Vienna;VALUE=DATE:20240317
DTEND;TZID=Europe/Vienna;VALUE=DATE:20240318
SEQUENCE:0
TRANSP:OPAQUE
END:VEVENT
END:VCALENDAR