BEGIN:VCALENDAR
VERSION:2.0
PRODID:-//jEvents 2.0 for Joomla//EN
CALSCALE:GREGORIAN
METHOD:PUBLISH
BEGIN:VTIMEZONE
TZID:Europe/Vienna
END:VTIMEZONE
BEGIN:VEVENT
UID:f8c072289e40aec43483343f46f9801f
CATEGORIES:Luft-Gewehr
SUMMARY:Landesliga, 4. Rd.
LOCATION:PSV Villach
DESCRIPTION;ENCODING=QUOTED-PRINTABLE:\n\nAusschreibung\n\n\nQualifikationsrichtlinien LG\n
DTSTAMP:20260424T173719Z
DTSTART;TZID=Europe/Vienna;VALUE=DATE:20240414
DTEND;TZID=Europe/Vienna;VALUE=DATE:20240415
SEQUENCE:0
TRANSP:OPAQUE
END:VEVENT
END:VCALENDAR