BEGIN:VCALENDAR
VERSION:2.0
PRODID:-//jEvents 2.0 for Joomla//EN
CALSCALE:GREGORIAN
METHOD:PUBLISH
BEGIN:VTIMEZONE
TZID:Europe/Vienna
END:VTIMEZONE
BEGIN:VEVENT
UID:5466913c12af40a70e331e9646bd31ab
CATEGORIES:Luft-Gewehr
SUMMARY:RFWK, 1. Rd.
DESCRIPTION;ENCODING=QUOTED-PRINTABLE:\n\nAusschreibung\n\n\nQualifikationsrichtlinien LG\n
DTSTAMP:20260425T181529Z
DTSTART;TZID=Europe/Vienna;VALUE=DATE:20231001
DTEND;TZID=Europe/Vienna;VALUE=DATE:20231101
SEQUENCE:0
TRANSP:OPAQUE
END:VEVENT
END:VCALENDAR