BEGIN:VCALENDAR
VERSION:2.0
PRODID:-//jEvents 2.0 for Joomla//EN
CALSCALE:GREGORIAN
METHOD:PUBLISH
BEGIN:VTIMEZONE
TZID:Europe/Vienna
END:VTIMEZONE
BEGIN:VEVENT
UID:0d02c0768ef54fd1273cdee7e705b117
CATEGORIES:Luft-Gewehr
SUMMARY:RFWK, 2. Rd.
DESCRIPTION;ENCODING=QUOTED-PRINTABLE:<p><a href="images/pdfs/2024/luft_2324/knt_lg_ligen_2324_a.pdf" target="_bl
 ank">Ausschreibung</a></p><p><a href="images/pdfs/2024/luft_2324/knt_lg_qua
 li_rl_2324.pdf" target="_blank">Qualifikationsrichtlinien LG</a></p>
DTSTAMP:20260425T145838Z
DTSTART;TZID=Europe/Vienna;VALUE=DATE:20231101
DTEND;TZID=Europe/Vienna;VALUE=DATE:20231201
SEQUENCE:0
TRANSP:OPAQUE
END:VEVENT
END:VCALENDAR