BEGIN:VCALENDAR
VERSION:2.0
PRODID:-//jEvents 2.0 for Joomla//EN
CALSCALE:GREGORIAN
METHOD:PUBLISH
BEGIN:VTIMEZONE
TZID:Europe/Vienna
END:VTIMEZONE
BEGIN:VEVENT
UID:fc48cc3bc05eadcbffc6d8ece4ad97b8
CATEGORIES:Luft-Gewehr
SUMMARY:RFWK, 3. Rd.
DESCRIPTION;ENCODING=QUOTED-PRINTABLE:\n\nAusschreibung\n\n\nQualifikationsrichtlinien LG\n
DTSTAMP:20260425T195103Z
DTSTART;TZID=Europe/Vienna;VALUE=DATE:20231201
DTEND;TZID=Europe/Vienna;VALUE=DATE:20240101
SEQUENCE:0
TRANSP:OPAQUE
END:VEVENT
END:VCALENDAR