BEGIN:VCALENDAR
VERSION:2.0
PRODID:-//jEvents 2.0 for Joomla//EN
CALSCALE:GREGORIAN
METHOD:PUBLISH
BEGIN:VTIMEZONE
TZID:Europe/Vienna
END:VTIMEZONE
BEGIN:VEVENT
UID:0058a261d7611237d05fe827b59b5317
CATEGORIES:Luft-Gewehr
SUMMARY:RFWK, 4. Rd.
DESCRIPTION;ENCODING=QUOTED-PRINTABLE:<p><a href="images/pdfs/2024/luft_2324/knt_lg_ligen_2324_a.pdf" target="_bl
 ank">Ausschreibung</a></p><p><a href="images/pdfs/2024/luft_2324/knt_lg_qua
 li_rl_2324.pdf" target="_blank">Qualifikationsrichtlinien LG</a></p>
DTSTAMP:20260424T180543Z
DTSTART;TZID=Europe/Vienna;VALUE=DATE:20240101
DTEND;TZID=Europe/Vienna;VALUE=DATE:20240201
SEQUENCE:0
TRANSP:OPAQUE
END:VEVENT
END:VCALENDAR