BEGIN:VCALENDAR
VERSION:2.0
PRODID:-//jEvents 2.0 for Joomla//EN
CALSCALE:GREGORIAN
METHOD:PUBLISH
BEGIN:VTIMEZONE
TZID:Europe/Vienna
END:VTIMEZONE
BEGIN:VEVENT
UID:7185600b29110d5df0e55ffc0dd02330
CATEGORIES:Luft-Gewehr
SUMMARY:RFWK, 5. Rd.
DESCRIPTION;ENCODING=QUOTED-PRINTABLE:\n\nAusschreibung\n\n\nQualifikationsrichtlinien LG\n
DTSTAMP:20260424T175416Z
DTSTART;TZID=Europe/Vienna;VALUE=DATE:20240201
DTEND;TZID=Europe/Vienna;VALUE=DATE:20240301
SEQUENCE:0
TRANSP:OPAQUE
END:VEVENT
END:VCALENDAR