BEGIN:VCALENDAR
VERSION:2.0
PRODID:-//jEvents 2.0 for Joomla//EN
CALSCALE:GREGORIAN
METHOD:PUBLISH
BEGIN:VTIMEZONE
TZID:Europe/Vienna
END:VTIMEZONE
BEGIN:VEVENT
UID:9f475a973ca8734122c5589b5705e246
CATEGORIES:Luft-Gewehr, Luft-Pistole
SUMMARY:1. Kaderqualifikation
DESCRIPTION;ENCODING=QUOTED-PRINTABLE:<p><a href="images/pdfs/2024/luft_2324/knt_lg_quali_rl_2324.pdf" target="_b
 lank">Qualifikationsrichtlinien LG</a></p>
DTSTAMP:20260424T180717Z
DTSTART;TZID=Europe/Vienna;VALUE=DATE:20240107
DTEND;TZID=Europe/Vienna;VALUE=DATE:20240108
SEQUENCE:0
TRANSP:OPAQUE
END:VEVENT
END:VCALENDAR