BEGIN:VCALENDAR
VERSION:2.0
PRODID:-//jEvents 2.0 for Joomla//EN
CALSCALE:GREGORIAN
METHOD:PUBLISH
BEGIN:VTIMEZONE
TZID:Europe/Vienna
END:VTIMEZONE
BEGIN:VEVENT
UID:3839123d4037d2d633c808789130fe90
CATEGORIES:Luft-Gewehr, Luft-Pistole
SUMMARY:2. Kaderqualifikation
DESCRIPTION;ENCODING=QUOTED-PRINTABLE:<p><a href="images/pdfs/2024/luft_2324/knt_lg_quali_rl_2324.pdf" target="_b
 lank">Qualifikationsrichtlinien LG</a></p>
DTSTAMP:20260424T180727Z
DTSTART;TZID=Europe/Vienna;VALUE=DATE:20240128
DTEND;TZID=Europe/Vienna;VALUE=DATE:20240129
SEQUENCE:0
TRANSP:OPAQUE
END:VEVENT
END:VCALENDAR