BEGIN:VCALENDAR
VERSION:2.0
PRODID:-//jEvents 2.0 for Joomla//EN
CALSCALE:GREGORIAN
METHOD:PUBLISH
BEGIN:VTIMEZONE
TZID:Europe/Vienna
END:VTIMEZONE
BEGIN:VEVENT
UID:9faf5f1ce54be9b6741b80c2d06119b6
CATEGORIES:Luft-Gewehr, Luft-Pistole
SUMMARY:3. Kaderqualifikation- ??
DESCRIPTION;ENCODING=QUOTED-PRINTABLE:<p><a href="images/pdfs/2024/luft_2324/knt_lg_quali_rl_2324.pdf" target="_b
 lank">Qualifikationsrichtlinien LG</a></p><p>(prov. Zusatztermin)</p>
DTSTAMP:20260424T180711Z
DTSTART;TZID=Europe/Vienna;VALUE=DATE:20240310
DTEND;TZID=Europe/Vienna;VALUE=DATE:20240311
SEQUENCE:0
TRANSP:OPAQUE
END:VEVENT
END:VCALENDAR