BEGIN:VCALENDAR
VERSION:2.0
PRODID:-//jEvents 2.0 for Joomla//EN
CALSCALE:GREGORIAN
METHOD:PUBLISH
BEGIN:VTIMEZONE
TZID:Europe/Vienna
END:VTIMEZONE
BEGIN:VEVENT
UID:baa163df144b47e35496261e1c0a3566
CATEGORIES:Luft-Pistole
SUMMARY:Landesmeisterschaft
LOCATION:PSV Villach
DESCRIPTION;ENCODING=QUOTED-PRINTABLE:<p><a href="images/pdfs/2024/luft_2324/knt_lg_quali_rl_2324.pdf" target="_b
 lank">Qualifikationsrichtlinien LG</a></p>
DTSTAMP:20260424T163311Z
DTSTART;TZID=Europe/Vienna;VALUE=DATE:20240224
DTEND;TZID=Europe/Vienna;VALUE=DATE:20240226
SEQUENCE:0
TRANSP:OPAQUE
END:VEVENT
END:VCALENDAR