BEGIN:VCALENDAR
VERSION:2.0
PRODID:-//jEvents 2.0 for Joomla//EN
CALSCALE:GREGORIAN
METHOD:PUBLISH
BEGIN:VTIMEZONE
TZID:Europe/Vienna
END:VTIMEZONE
BEGIN:VEVENT
UID:47af62daebb981b4628eb4d646befd44
CATEGORIES:Luft-Gewehr
SUMMARY:Landesmeisterschaft
LOCATION:PSV Villach
DESCRIPTION;ENCODING=QUOTED-PRINTABLE:<p>.</p>
DTSTAMP:20260424T180714Z
DTSTART;TZID=Europe/Vienna;VALUE=DATE:20240301
DTEND;TZID=Europe/Vienna;VALUE=DATE:20240304
SEQUENCE:0
TRANSP:OPAQUE
END:VEVENT
END:VCALENDAR