BEGIN:VCALENDAR
VERSION:2.0
PRODID:-//jEvents 2.0 for Joomla//EN
CALSCALE:GREGORIAN
METHOD:PUBLISH
BEGIN:VTIMEZONE
TZID:Europe/Vienna
END:VTIMEZONE
BEGIN:VEVENT
UID:fd19c6ee5c6b483a3ea8dc06af8bd071
CATEGORIES:Luft-Gewehr, Luft-Pistole
SUMMARY:ÖSTM/ÖM
LOCATION:Kufstein/T
DESCRIPTION;ENCODING=QUOTED-PRINTABLE:<p>Termin noch nicht fixiert - vorauss. Anfang April !!!</p>
DTSTAMP:20260424T174248Z
DTSTART;TZID=Europe/Vienna;VALUE=DATE:20240401
DTEND;TZID=Europe/Vienna;VALUE=DATE:20240415
SEQUENCE:0
TRANSP:OPAQUE
END:VEVENT
END:VCALENDAR