BEGIN:VCALENDAR
VERSION:2.0
PRODID:-//jEvents 2.0 for Joomla//EN
CALSCALE:GREGORIAN
METHOD:PUBLISH
BEGIN:VTIMEZONE
TZID:Europe/Vienna
END:VTIMEZONE
BEGIN:VEVENT
UID:300ad696285f3667aa13192dfebe01a7
CATEGORIES:Luft-Pistole
SUMMARY:Landesliga 1.Rd.
LOCATION:PSV Villach
DESCRIPTION;ENCODING=QUOTED-PRINTABLE:\n\nAusschreibung\n\n\nQualifikationsrichtlinien LP\n
DTSTAMP:20260426T000024Z
DTSTART;TZID=Europe/Vienna;VALUE=DATE:20231028
DTEND;TZID=Europe/Vienna;VALUE=DATE:20231029
SEQUENCE:0
TRANSP:OPAQUE
END:VEVENT
END:VCALENDAR